BEGIN:VCALENDAR
VERSION:2.0
PRODID:-//Clifton Arts - ECPv6.15.20//NONSGML v1.0//EN
CALSCALE:GREGORIAN
METHOD:PUBLISH
X-WR-CALNAME:Clifton Arts
X-ORIGINAL-URL:https://cliftonarts.org
X-WR-CALDESC:Events for Clifton Arts
REFRESH-INTERVAL;VALUE=DURATION:PT1H
X-Robots-Tag:noindex
X-PUBLISHED-TTL:PT1H
BEGIN:VTIMEZONE
TZID:Europe/London
BEGIN:DAYLIGHT
TZOFFSETFROM:+0000
TZOFFSETTO:+0100
TZNAME:BST
DTSTART:20250330T010000
END:DAYLIGHT
BEGIN:STANDARD
TZOFFSETFROM:+0100
TZOFFSETTO:+0000
TZNAME:GMT
DTSTART:20251026T010000
END:STANDARD
BEGIN:DAYLIGHT
TZOFFSETFROM:+0000
TZOFFSETTO:+0100
TZNAME:BST
DTSTART:20260329T010000
END:DAYLIGHT
BEGIN:STANDARD
TZOFFSETFROM:+0100
TZOFFSETTO:+0000
TZNAME:GMT
DTSTART:20261025T010000
END:STANDARD
BEGIN:DAYLIGHT
TZOFFSETFROM:+0000
TZOFFSETTO:+0100
TZNAME:BST
DTSTART:20270328T010000
END:DAYLIGHT
BEGIN:STANDARD
TZOFFSETFROM:+0100
TZOFFSETTO:+0000
TZNAME:GMT
DTSTART:20271031T010000
END:STANDARD
END:VTIMEZONE
BEGIN:VEVENT
DTSTART;TZID=Europe/London:20260502T100000
DTEND;TZID=Europe/London:20260502T123000
DTSTAMP:20260423T213118
CREATED:20251031T102548Z
LAST-MODIFIED:20251208T090558Z
UID:10000306-1777716000-1777725000@cliftonarts.org
SUMMARY:Saturday morning painting
DESCRIPTION:There is street parking on Station Road which often involves parking a little further down the hill and walking back up to the hall. \n\n\n\nAnyone participating in Clifton Arts Club activities does so at their own risk. The Club and its members involved in organising such activities do not accept liability for loss or injury suffered by participants.
URL:https://cliftonarts.org/event/saturday-morning-painting-8/
LOCATION:Shirehampton Village Hall\, 32 Station Road\, Bristol\, BS11 9TX
ATTACH;FMTTYPE=image/jpeg:https://cliftonarts.org/wp-content/uploads/2025/10/IMG_6538-rotated-e1765184707752.jpeg
END:VEVENT
END:VCALENDAR