BEGIN:VCALENDAR
VERSION:2.0
PRODID:-//Clifton Arts - ECPv6.15.20//NONSGML v1.0//EN
CALSCALE:GREGORIAN
METHOD:PUBLISH
X-ORIGINAL-URL:https://cliftonarts.org
X-WR-CALDESC:Events for Clifton Arts
REFRESH-INTERVAL;VALUE=DURATION:PT1H
X-Robots-Tag:noindex
X-PUBLISHED-TTL:PT1H
BEGIN:VTIMEZONE
TZID:Europe/London
BEGIN:DAYLIGHT
TZOFFSETFROM:+0000
TZOFFSETTO:+0100
TZNAME:BST
DTSTART:20250330T010000
END:DAYLIGHT
BEGIN:STANDARD
TZOFFSETFROM:+0100
TZOFFSETTO:+0000
TZNAME:GMT
DTSTART:20251026T010000
END:STANDARD
BEGIN:DAYLIGHT
TZOFFSETFROM:+0000
TZOFFSETTO:+0100
TZNAME:BST
DTSTART:20260329T010000
END:DAYLIGHT
BEGIN:STANDARD
TZOFFSETFROM:+0100
TZOFFSETTO:+0000
TZNAME:GMT
DTSTART:20261025T010000
END:STANDARD
BEGIN:DAYLIGHT
TZOFFSETFROM:+0000
TZOFFSETTO:+0100
TZNAME:BST
DTSTART:20270328T010000
END:DAYLIGHT
BEGIN:STANDARD
TZOFFSETFROM:+0100
TZOFFSETTO:+0000
TZNAME:GMT
DTSTART:20271031T010000
END:STANDARD
END:VTIMEZONE
BEGIN:VEVENT
DTSTART;TZID=Europe/London:20260328T100000
DTEND;TZID=Europe/London:20260328T160000
DTSTAMP:20260423T123344
CREATED:20251006T091353Z
LAST-MODIFIED:20260326T183217Z
UID:10000297-1774692000-1774713600@cliftonarts.org
SUMMARY:Oil pastel workshop with Rosie Harbottle
DESCRIPTION:Rosie Harbottle is an artist and designer based on the edge of Dartmoor. Her work celebrates the natural world and the emotion she feels living alongside it. \n\n\n\nJoin Rosie for a day-long oil pastel workshop designed to spark creativity and build confidence in this expressive medium. Together we’ll explore colour\, texture\, and composition through playful warm-ups and more developed drawings. \n\n\n\nThis workshop is perfect for anyone who wants to explore oil pastels in a relaxed and inspiring setting\, whether you’re new to the medium or looking to deepen your practice. \n\n\n\nWhat to Bring \n\n\n\nPastels Rosie’s go-to brand of pastels is Sennelier as she loves the creaminess of them and the colour range. I suggest a set like this or this. \n\n\n\nPaper – Rosie recommends these pads that come in some lovely tones and are great for quick studies. This paper is good for more ‘finished’ pieces. \n\n\n\nApron or old clothes (oil pastels can get messy!) \n\n\n\nTea and coffee are provided. Please bring your own lunch.  \n\n\n\nAnyone participating in Clifton Arts Club activities does so at their own risk. The Club and its members involved in organising such activities do not accept liability for loss or injury suffered by participants. \nPlease note – this event is at Shirehampton Public Hall.. \n\n\n\n\n\n\n\n\n\n\n\n\n\n\n \n\n \n\n\n\n 
URL:https://cliftonarts.org/event/oil-pastel-workshop-with-rosie-harbottle/
LOCATION:Shirehampton Village Hall\, 32 Station Road\, Bristol\, BS11 9TX
ATTACH;FMTTYPE=image/jpeg:https://cliftonarts.org/wp-content/uploads/2025/10/pink-petals-web-size.jpg
ORGANIZER;CN="Sue Turner":MAILTO:editor@cliftonarts.org
END:VEVENT
END:VCALENDAR