BEGIN:VCALENDAR
VERSION:2.0
PRODID:-//Clifton Arts - ECPv6.15.20//NONSGML v1.0//EN
CALSCALE:GREGORIAN
METHOD:PUBLISH
X-WR-CALNAME:Clifton Arts
X-ORIGINAL-URL:https://cliftonarts.org
X-WR-CALDESC:Events for Clifton Arts
REFRESH-INTERVAL;VALUE=DURATION:PT1H
X-Robots-Tag:noindex
X-PUBLISHED-TTL:PT1H
BEGIN:VTIMEZONE
TZID:Europe/London
BEGIN:DAYLIGHT
TZOFFSETFROM:+0000
TZOFFSETTO:+0100
TZNAME:BST
DTSTART:20250330T010000
END:DAYLIGHT
BEGIN:STANDARD
TZOFFSETFROM:+0100
TZOFFSETTO:+0000
TZNAME:GMT
DTSTART:20251026T010000
END:STANDARD
BEGIN:DAYLIGHT
TZOFFSETFROM:+0000
TZOFFSETTO:+0100
TZNAME:BST
DTSTART:20260329T010000
END:DAYLIGHT
BEGIN:STANDARD
TZOFFSETFROM:+0100
TZOFFSETTO:+0000
TZNAME:GMT
DTSTART:20261025T010000
END:STANDARD
BEGIN:DAYLIGHT
TZOFFSETFROM:+0000
TZOFFSETTO:+0100
TZNAME:BST
DTSTART:20270328T010000
END:DAYLIGHT
BEGIN:STANDARD
TZOFFSETFROM:+0100
TZOFFSETTO:+0000
TZNAME:GMT
DTSTART:20271031T010000
END:STANDARD
END:VTIMEZONE
BEGIN:VEVENT
DTSTART;TZID=Europe/London:20260423T100000
DTEND;TZID=Europe/London:20260423T140000
DTSTAMP:20260424T054507
CREATED:20260213T172315Z
LAST-MODIFIED:20260213T172558Z
UID:10000324-1776938400-1776952800@cliftonarts.org
SUMMARY:Meet-up Secret Cafe St Stephen's Church
DESCRIPTION:A swift return by popular demand! \nA wealth of buildings\, situated just off Corn Street\, in the heart of medieval Bristol \, plus the Corn Exchange and St Nicholas Street Market are nearby. \nBring your favourite sketching materials and come prepared to buy a coffee\,  or even lunch as well. \nAnyone participating in Clifton Arts Club activities does so at their own risk. The Club and its members involved in organising such activities do not accept liability for loss or injury suffered by participants.
URL:https://cliftonarts.org/event/meet-up-secret-cafe-st-stephens-church/
LOCATION:St Stephens Church\, BS1 1EQ
ATTACH;FMTTYPE=image/jpeg:https://cliftonarts.org/wp-content/uploads/2026/02/Km-Corn-Street.jpg
END:VEVENT
BEGIN:VEVENT
DTSTART;TZID=Europe/London:20260212T100000
DTEND;TZID=Europe/London:20260212T140000
DTSTAMP:20260424T054507
CREATED:20251215T163802Z
LAST-MODIFIED:20260204T192151Z
UID:10000315-1770890400-1770904800@cliftonarts.org
SUMMARY:Meet-up at The Secret Cafe
DESCRIPTION:The Secret Cafe at Stephen’s Church is right in the medieval part of the city\, surrounded by a wealth of fascinating buildings. Come prepared to buy a coffee and maybe lunch\, and bring your favourite sketching materials. \n\n\n\nAnyone participating in Clifton Arts Club activities does so at their own risk. The Club and its members involved in organising such activities do not accept liability for loss or injury experienced by participants. \n\n\n\n\n\n\n\n\n\n\n\n\n\n\n\n 
URL:https://cliftonarts.org/event/meet-up-at-the-secret-cafe/
LOCATION:St Stephens Church\, BS1 1EQ
ATTACH;FMTTYPE=image/jpeg:https://cliftonarts.org/wp-content/uploads/2025/12/1000054808.jpg
END:VEVENT
END:VCALENDAR